BEGIN:VCALENDAR
VERSION:2.0
PRODID:-//Campbell River Gymnastics Association - ECPv6.15.17.1//NONSGML v1.0//EN
CALSCALE:GREGORIAN
METHOD:PUBLISH
X-WR-CALNAME:Campbell River Gymnastics Association
X-ORIGINAL-URL:https://campbellrivergymnastics.ca
X-WR-CALDESC:Events for Campbell River Gymnastics Association
REFRESH-INTERVAL;VALUE=DURATION:PT1H
X-Robots-Tag:noindex
X-PUBLISHED-TTL:PT1H
BEGIN:VTIMEZONE
TZID:America/Los_Angeles
BEGIN:DAYLIGHT
TZOFFSETFROM:-0800
TZOFFSETTO:-0700
TZNAME:PDT
DTSTART:20250309T100000
END:DAYLIGHT
BEGIN:STANDARD
TZOFFSETFROM:-0700
TZOFFSETTO:-0800
TZNAME:PST
DTSTART:20251102T090000
END:STANDARD
BEGIN:DAYLIGHT
TZOFFSETFROM:-0800
TZOFFSETTO:-0700
TZNAME:PDT
DTSTART:20260308T100000
END:DAYLIGHT
BEGIN:STANDARD
TZOFFSETFROM:-0700
TZOFFSETTO:-0800
TZNAME:PST
DTSTART:20261101T090000
END:STANDARD
BEGIN:DAYLIGHT
TZOFFSETFROM:-0800
TZOFFSETTO:-0700
TZNAME:PDT
DTSTART:20270314T100000
END:DAYLIGHT
BEGIN:STANDARD
TZOFFSETFROM:-0700
TZOFFSETTO:-0800
TZNAME:PST
DTSTART:20271107T090000
END:STANDARD
END:VTIMEZONE
BEGIN:VEVENT
DTSTART;VALUE=DATE:20260423
DTEND;VALUE=DATE:20260426
DTSTAMP:20260423T024742
CREATED:20241018T223253Z
LAST-MODIFIED:20250917T165242Z
UID:2120-1776902400-1777161599@campbellrivergymnastics.ca
SUMMARY:Western Championships
DESCRIPTION:Yukon \nAll Qualified Athletes
URL:https://campbellrivergymnastics.ca/event/western-championships/
LOCATION:TBC
CATEGORIES:Competitions
END:VEVENT
BEGIN:VEVENT
DTSTART;VALUE=DATE:20260423
DTEND;VALUE=DATE:20260426
DTSTAMP:20260423T024742
CREATED:20241018T223814Z
LAST-MODIFIED:20250917T164754Z
UID:2122-1776902400-1777161599@campbellrivergymnastics.ca
SUMMARY:Orca Invitational
DESCRIPTION:Girls – CCP 2 – 7
URL:https://campbellrivergymnastics.ca/event/orca-invitational/
LOCATION:Duncan Dynamics\, 1035 Shawnigan-Mill Bay Rd\, Mill Bay\, BC\, V0R 2P2\, Canada
CATEGORIES:Competitions
END:VEVENT
END:VCALENDAR